BEGIN:VCALENDAR
VERSION:2.0
PRODID:-//𝗖𝗗𝗢𝗦 𝟱𝟳 - ECPv5.3.2.1//NONSGML v1.0//EN
CALSCALE:GREGORIAN
METHOD:PUBLISH
X-WR-CALNAME:𝗖𝗗𝗢𝗦 𝟱𝟳
X-ORIGINAL-URL:https://cdos57.com
X-WR-CALDESC:Évènements pour 𝗖𝗗𝗢𝗦 𝟱𝟳
BEGIN:VTIMEZONE
TZID:Europe/Paris
BEGIN:DAYLIGHT
TZOFFSETFROM:+0100
TZOFFSETTO:+0200
TZNAME:CEST
DTSTART:20210328T010000
END:DAYLIGHT
BEGIN:STANDARD
TZOFFSETFROM:+0200
TZOFFSETTO:+0100
TZNAME:CET
DTSTART:20211031T010000
END:STANDARD
END:VTIMEZONE
BEGIN:VEVENT
DTSTART;TZID=Europe/Paris:20210717T090000
DTEND;TZID=Europe/Paris:20210717T170000
DTSTAMP:20260423T153327
CREATED:20210712T113211Z
LAST-MODIFIED:20230207T112245Z
UID:1077-1626512400-1626541200@cdos57.com
SUMMARY:CARAVANE MOSELLE TERRE DE JEUX _ CHÂTEAU-SALINS
DESCRIPTION:
URL:https://cdos57.com/event/caravane-moselle-terre-de-jeux-_-chateau-salins/
LOCATION:Château-Salins\, Zone de loisir des Salines\, Château-Salins\, 57132\, France
CATEGORIES:Évènement Sportif
ORGANIZER;CN="CDOS%2057":MAILTO:moselle@franceolympique.com
END:VEVENT
BEGIN:VEVENT
DTSTART;TZID=Europe/Paris:20210723T100000
DTEND;TZID=Europe/Paris:20210723T170000
DTSTAMP:20260423T153327
CREATED:20210712T123102Z
LAST-MODIFIED:20210719T115608Z
UID:1093-1627034400-1627059600@cdos57.com
SUMMARY:CARAVANE MOSELLE TERRE DE JEUX _ SARREBOURG
DESCRIPTION:
URL:https://cdos57.com/event/caravane-moselle-terre-de-jeux-_-sarrebourg/
LOCATION:Sarrebourg\, Entre'Pot\, Sarrebourg\, 57400\, France
CATEGORIES:Évènement Sportif
ORGANIZER;CN="CDOS%2057":MAILTO:moselle@franceolympique.com
END:VEVENT
BEGIN:VEVENT
DTSTART;TZID=Europe/Paris:20210725T080000
DTEND;TZID=Europe/Paris:20210725T170000
DTSTAMP:20260423T153327
CREATED:20210712T123835Z
LAST-MODIFIED:20210719T115711Z
UID:1097-1627200000-1627232400@cdos57.com
SUMMARY:CARAVANE MOSELLE TERRE DE JEUX _ BITCHE
DESCRIPTION:
URL:https://cdos57.com/event/caravane-moselle-terre-de-jeux-_-bitche/
LOCATION:Bitche\, Rinner Brunnen\, Bitche\, 57230\, France
CATEGORIES:Évènement Sportif
ORGANIZER;CN="CDOS%2057":MAILTO:moselle@franceolympique.com
END:VEVENT
BEGIN:VEVENT
DTSTART;TZID=Europe/Paris:20210728T100000
DTEND;TZID=Europe/Paris:20210728T170000
DTSTAMP:20260423T153327
CREATED:20210712T124317Z
LAST-MODIFIED:20210719T115834Z
UID:1101-1627466400-1627491600@cdos57.com
SUMMARY:CARAVANE MOSELLE TERRE DE JEUX _ AMNEVILLE
DESCRIPTION:
URL:https://cdos57.com/event/caravane-moselle-terre-de-jeux-_-amneville/
LOCATION:Amnéville
CATEGORIES:Évènement Sportif
ORGANIZER;CN="CDOS%2057":MAILTO:moselle@franceolympique.com
END:VEVENT
BEGIN:VEVENT
DTSTART;TZID=Europe/Paris:20210731T100000
DTEND;TZID=Europe/Paris:20210731T170000
DTSTAMP:20260423T153327
CREATED:20210712T124514Z
LAST-MODIFIED:20210719T115935Z
UID:1104-1627725600-1627750800@cdos57.com
SUMMARY:CARAVANE MOSELLE TERRE DE JEUX _ CREUTZWALD
DESCRIPTION:
URL:https://cdos57.com/event/caravane-moselle-terre-de-jeux-_-creutzwald/
LOCATION:Creutzwald\, Creutzwald\, 57150\, France
CATEGORIES:Évènement Sportif
ORGANIZER;CN="CDOS%2057":MAILTO:moselle@franceolympique.com
END:VEVENT
END:VCALENDAR