BEGIN:VCALENDAR
VERSION:2.0
PRODID:-//𝗖𝗗𝗢𝗦 𝟱𝟳 - ECPv5.3.2.1//NONSGML v1.0//EN
CALSCALE:GREGORIAN
METHOD:PUBLISH
X-WR-CALNAME:𝗖𝗗𝗢𝗦 𝟱𝟳
X-ORIGINAL-URL:https://cdos57.com
X-WR-CALDESC:Évènements pour 𝗖𝗗𝗢𝗦 𝟱𝟳
BEGIN:VTIMEZONE
TZID:Europe/Paris
BEGIN:DAYLIGHT
TZOFFSETFROM:+0100
TZOFFSETTO:+0200
TZNAME:CEST
DTSTART:20210328T010000
END:DAYLIGHT
BEGIN:STANDARD
TZOFFSETFROM:+0200
TZOFFSETTO:+0100
TZNAME:CET
DTSTART:20211031T010000
END:STANDARD
END:VTIMEZONE
BEGIN:VEVENT
DTSTART;TZID=Europe/Paris:20210728T100000
DTEND;TZID=Europe/Paris:20210728T170000
DTSTAMP:20260423T095559
CREATED:20210712T124317Z
LAST-MODIFIED:20210719T115834Z
UID:1101-1627466400-1627491600@cdos57.com
SUMMARY:CARAVANE MOSELLE TERRE DE JEUX _ AMNEVILLE
DESCRIPTION:
URL:https://cdos57.com/event/caravane-moselle-terre-de-jeux-_-amneville/
LOCATION:Amnéville
CATEGORIES:Évènement Sportif
ORGANIZER;CN="CDOS%2057":MAILTO:moselle@franceolympique.com
END:VEVENT
BEGIN:VEVENT
DTSTART;TZID=Europe/Paris:20210731T100000
DTEND;TZID=Europe/Paris:20210731T170000
DTSTAMP:20260423T095559
CREATED:20210712T124514Z
LAST-MODIFIED:20210719T115935Z
UID:1104-1627725600-1627750800@cdos57.com
SUMMARY:CARAVANE MOSELLE TERRE DE JEUX _ CREUTZWALD
DESCRIPTION:
URL:https://cdos57.com/event/caravane-moselle-terre-de-jeux-_-creutzwald/
LOCATION:Creutzwald\, Creutzwald\, 57150\, France
CATEGORIES:Évènement Sportif
ORGANIZER;CN="CDOS%2057":MAILTO:moselle@franceolympique.com
END:VEVENT
BEGIN:VEVENT
DTSTART;TZID=Europe/Paris:20210804T100000
DTEND;TZID=Europe/Paris:20210804T170000
DTSTAMP:20260423T095559
CREATED:20210713T071401Z
LAST-MODIFIED:20210719T120025Z
UID:1142-1628071200-1628096400@cdos57.com
SUMMARY:CARAVANE MOSELLE TERRE DE JEUX _ THIONVILLE
DESCRIPTION:
URL:https://cdos57.com/event/caravane-moselle-terre-de-jeux-_-thionville/
LOCATION:thionville\, Thionville\, 57100\, France
CATEGORIES:Évènement Sportif
ORGANIZER;CN="CDOS%2057":MAILTO:moselle@franceolympique.com
END:VEVENT
BEGIN:VEVENT
DTSTART;TZID=Europe/Paris:20210814T100000
DTEND;TZID=Europe/Paris:20210814T170000
DTSTAMP:20260423T095559
CREATED:20210713T073603Z
LAST-MODIFIED:20210719T120111Z
UID:1144-1628935200-1628960400@cdos57.com
SUMMARY:CARAVANE DU SPORT MOSELLAN _ FOLSCHVILLER
DESCRIPTION:
URL:https://cdos57.com/event/caravane-du-sport-mosellan-_-folschviller/
LOCATION:Folschviller\, Folschviller\, 57224\, France
CATEGORIES:Évènement Sportif
ORGANIZER;CN="CDOS%2057":MAILTO:moselle@franceolympique.com
END:VEVENT
BEGIN:VEVENT
DTSTART;TZID=Europe/Paris:20210817T100000
DTEND;TZID=Europe/Paris:20210817T170000
DTSTAMP:20260423T095559
CREATED:20210713T074213Z
LAST-MODIFIED:20210719T120148Z
UID:1149-1629194400-1629219600@cdos57.com
SUMMARY:CARAVANE MOSELLE TERRE DE JEUX _ SARREGUEMINES
DESCRIPTION:
URL:https://cdos57.com/event/caravane-moselle-terre-de-jeux-_-sarreguemines/
LOCATION:Sarreguemines\, Sarreguemines\, 57200\, France
CATEGORIES:Évènement Sportif
ORGANIZER;CN="CDOS%2057":MAILTO:moselle@franceolympique.com
END:VEVENT
BEGIN:VEVENT
DTSTART;TZID=Europe/Paris:20210818T100000
DTEND;TZID=Europe/Paris:20210818T170000
DTSTAMP:20260423T095559
CREATED:20210713T074721Z
LAST-MODIFIED:20210719T120307Z
UID:1151-1629280800-1629306000@cdos57.com
SUMMARY:CARAVANE DU SPORT MOSELLAN _ GROSBLIEDERSTROFF
DESCRIPTION:
URL:https://cdos57.com/event/caravane-du-sport-mosellan-_-grosbliederstroff/
LOCATION:Grosbliederstroff\, Zone loisir\, Grosbliederstroff\, 57260\, France
CATEGORIES:Évènement Sportif
ORGANIZER;CN="CDOS%2057":MAILTO:moselle@franceolympique.com
END:VEVENT
BEGIN:VEVENT
DTSTART;TZID=Europe/Paris:20210821T100000
DTEND;TZID=Europe/Paris:20210821T170000
DTSTAMP:20260423T095559
CREATED:20210713T075229Z
LAST-MODIFIED:20210719T120351Z
UID:1155-1629540000-1629565200@cdos57.com
SUMMARY:CARAVANE MOSELLE TERRE DE JEUX _ MORHANGE
DESCRIPTION:
URL:https://cdos57.com/event/caravane-moselle-terre-de-jeux-_-morhange/
LOCATION:Morhange\, Etang de la Mutche\, Morhange\, 57340\, France
CATEGORIES:Évènement Sportif
ORGANIZER;CN="CDOS%2057":MAILTO:moselle@franceolympique.com
END:VEVENT
BEGIN:VEVENT
DTSTART;TZID=Europe/Paris:20210825T100000
DTEND;TZID=Europe/Paris:20210825T170000
DTSTAMP:20260423T095559
CREATED:20210713T075627Z
LAST-MODIFIED:20210719T120418Z
UID:1158-1629885600-1629910800@cdos57.com
SUMMARY:CARAVANE MOSELLE TERRE DE JEUX _ BOUZONVILLE
DESCRIPTION:
URL:https://cdos57.com/event/caravane-moselle-terre-de-jeux-_-bouzonville/
LOCATION:Bouzonville\, Parc de la Nied\, Bouzonville\, 57106\, France
CATEGORIES:Évènement Sportif
ORGANIZER;CN="CDOS%2057":MAILTO:moselle@franceolympique.com
END:VEVENT
BEGIN:VEVENT
DTSTART;TZID=Europe/Paris:20210826T100000
DTEND;TZID=Europe/Paris:20210826T170000
DTSTAMP:20260423T095559
CREATED:20210713T080558Z
LAST-MODIFIED:20210719T120504Z
UID:1161-1629972000-1629997200@cdos57.com
SUMMARY:CARAVANE DU SPORT MOSELLAN _ VITTERSBOURG
DESCRIPTION:
URL:https://cdos57.com/event/caravane-du-sport-mosellan-_-vittersbourg/
LOCATION:Vittersbourg\, Vittersbourg\, 57670\, France
CATEGORIES:Évènement Sportif
ORGANIZER;CN="CDOS%2057":MAILTO:moselle@franceolympique.com
END:VEVENT
END:VCALENDAR