BEGIN:VCALENDAR
VERSION:2.0
PRODID:-//𝗖𝗗𝗢𝗦 𝟱𝟳 - ECPv5.3.2.1//NONSGML v1.0//EN
CALSCALE:GREGORIAN
METHOD:PUBLISH
X-WR-CALNAME:𝗖𝗗𝗢𝗦 𝟱𝟳
X-ORIGINAL-URL:https://cdos57.com
X-WR-CALDESC:Évènements pour 𝗖𝗗𝗢𝗦 𝟱𝟳
BEGIN:VTIMEZONE
TZID:Europe/Paris
BEGIN:DAYLIGHT
TZOFFSETFROM:+0100
TZOFFSETTO:+0200
TZNAME:CEST
DTSTART:20210328T010000
END:DAYLIGHT
BEGIN:STANDARD
TZOFFSETFROM:+0200
TZOFFSETTO:+0100
TZNAME:CET
DTSTART:20211031T010000
END:STANDARD
END:VTIMEZONE
BEGIN:VEVENT
DTSTART;TZID=Europe/Paris:20210911T100000
DTEND;TZID=Europe/Paris:20210911T180000
DTSTAMP:20260423T075819
CREATED:20210302T160300Z
LAST-MODIFIED:20210902T110652Z
UID:522-1631354400-1631383200@cdos57.com
SUMMARY:Fête Départementale du Sport de Moselle
DESCRIPTION:
URL:https://cdos57.com/event/fete-departementale-du-sport-de-moselle/
LOCATION:Parc de la Seille\, Parc de la Seille\, Metz\, 57000
CATEGORIES:Évènement Sportif
ORGANIZER;CN="CDOS%2057":MAILTO:moselle@franceolympique.com
END:VEVENT
BEGIN:VEVENT
DTSTART;TZID=Europe/Paris:20210912T100000
DTEND;TZID=Europe/Paris:20210912T180000
DTSTAMP:20260423T075819
CREATED:20210713T082554Z
LAST-MODIFIED:20210902T110757Z
UID:1173-1631440800-1631469600@cdos57.com
SUMMARY:Fête Départementale du Sport de Moselle
DESCRIPTION:
URL:https://cdos57.com/event/fete-departementale-du-sport-de-moselle-duplicate-1/
LOCATION:Parc de la Seille\, Parc de la Seille\, Metz\, 57000
CATEGORIES:Évènement Sportif
ORGANIZER;CN="CDOS%2057":MAILTO:moselle@franceolympique.com
END:VEVENT
BEGIN:VEVENT
DTSTART;TZID=Europe/Paris:20210918T100000
DTEND;TZID=Europe/Paris:20210918T170000
DTSTAMP:20260423T075819
CREATED:20210713T080901Z
LAST-MODIFIED:20210713T080901Z
UID:1165-1631959200-1631984400@cdos57.com
SUMMARY:CARAVANE MOSELLE TERRE DE JEUX _ ANCY-DORNOT
DESCRIPTION:
URL:https://cdos57.com/event/caravane-moselle-terre-de-jeux-_-ancy-dornot/
LOCATION:Ancy-Dornot\, Piste de Pumptrack\, Ancy-Dornot\, 57021\, France
CATEGORIES:Évènement Sportif
ORGANIZER;CN="CDOS%2057":MAILTO:moselle@franceolympique.com
END:VEVENT
END:VCALENDAR