BEGIN:VCALENDAR
VERSION:2.0
PRODID:-//𝗖𝗗𝗢𝗦 𝟱𝟳 - ECPv5.3.2.1//NONSGML v1.0//EN
CALSCALE:GREGORIAN
METHOD:PUBLISH
X-WR-CALNAME:𝗖𝗗𝗢𝗦 𝟱𝟳
X-ORIGINAL-URL:https://cdos57.com
X-WR-CALDESC:Évènements pour 𝗖𝗗𝗢𝗦 𝟱𝟳
BEGIN:VTIMEZONE
TZID:Europe/Paris
BEGIN:DAYLIGHT
TZOFFSETFROM:+0100
TZOFFSETTO:+0200
TZNAME:CEST
DTSTART:20210328T010000
END:DAYLIGHT
BEGIN:STANDARD
TZOFFSETFROM:+0200
TZOFFSETTO:+0100
TZNAME:CET
DTSTART:20211031T010000
END:STANDARD
END:VTIMEZONE
BEGIN:VEVENT
DTSTART;TZID=Europe/Paris:20211105T090000
DTEND;TZID=Europe/Paris:20211105T170000
DTSTAMP:20260423T035228
CREATED:20211019T131620Z
LAST-MODIFIED:20211019T131620Z
UID:1463-1636102800-1636131600@cdos57.com
SUMMARY:Formation VRL
DESCRIPTION:
URL:https://cdos57.com/event/formation-vrl/
LOCATION:Verny\, 2 rue Plénière\, Verny\, France
ORGANIZER;CN="CDOS%2057":MAILTO:moselle@franceolympique.com
END:VEVENT
BEGIN:VEVENT
DTSTART;TZID=Europe/Paris:20211106T090000
DTEND;TZID=Europe/Paris:20211106T170000
DTSTAMP:20260423T035228
CREATED:20211019T131705Z
LAST-MODIFIED:20211019T131705Z
UID:1465-1636189200-1636218000@cdos57.com
SUMMARY:Formation VRL
DESCRIPTION:
URL:https://cdos57.com/event/formation-vrl-2/
LOCATION:Verny\, 2 rue Plénière\, Verny\, France
ORGANIZER;CN="CDOS%2057":MAILTO:moselle@franceolympique.com
END:VEVENT
BEGIN:VEVENT
DTSTART;TZID=Europe/Paris:20211108T080000
DTEND;TZID=Europe/Paris:20211108T170000
DTSTAMP:20260423T035228
CREATED:20210712T130422Z
LAST-MODIFIED:20210712T140240Z
UID:1110-1636358400-1636390800@cdos57.com
SUMMARY:Formation E3S Sport - Santé CDOS 57
DESCRIPTION:
URL:https://cdos57.com/event/formation-e3s-sport-sante-cdos-57/
LOCATION:Verny\, 2 rue Plénière\, Verny\, France
ORGANIZER;CN="CDOS%2057":MAILTO:moselle@franceolympique.com
END:VEVENT
BEGIN:VEVENT
DTSTART;TZID=Europe/Paris:20211122T183000
DTEND;TZID=Europe/Paris:20211122T210000
DTSTAMP:20260423T035228
CREATED:20211018T094849Z
LAST-MODIFIED:20211122T130943Z
UID:1449-1637605800-1637614800@cdos57.com
SUMMARY:Colloque - "Comment penser le club de demain ? "
DESCRIPTION:
URL:https://cdos57.com/event/colloque-comment-penser-le-club-de-demain/
ORGANIZER;CN="CDOS%2057":MAILTO:moselle@franceolympique.com
END:VEVENT
END:VCALENDAR