BEGIN:VCALENDAR
VERSION:2.0
PRODID:-//𝗖𝗗𝗢𝗦 𝟱𝟳 - ECPv5.3.2.1//NONSGML v1.0//EN
CALSCALE:GREGORIAN
METHOD:PUBLISH
X-WR-CALNAME:𝗖𝗗𝗢𝗦 𝟱𝟳
X-ORIGINAL-URL:https://cdos57.com
X-WR-CALDESC:Évènements pour 𝗖𝗗𝗢𝗦 𝟱𝟳
BEGIN:VTIMEZONE
TZID:Europe/Paris
BEGIN:DAYLIGHT
TZOFFSETFROM:+0100
TZOFFSETTO:+0200
TZNAME:CEST
DTSTART:20220327T010000
END:DAYLIGHT
BEGIN:STANDARD
TZOFFSETFROM:+0200
TZOFFSETTO:+0100
TZNAME:CET
DTSTART:20221030T010000
END:STANDARD
END:VTIMEZONE
BEGIN:VEVENT
DTSTART;TZID=Europe/Paris:20221010T090000
DTEND;TZID=Europe/Paris:20221010T170000
DTSTAMP:20260422T112214
CREATED:20220926T132411Z
LAST-MODIFIED:20220926T134547Z
UID:1688-1665392400-1665421200@cdos57.com
SUMMARY:FORMATION VRL
DESCRIPTION:
URL:https://cdos57.com/event/formation-vrl-3/
LOCATION:Verny\, 2 rue Plénière\, Verny\, France
ORGANIZER;CN="CDOS%2057":MAILTO:moselle@franceolympique.com
END:VEVENT
BEGIN:VEVENT
DTSTART;TZID=Europe/Paris:20221011T090000
DTEND;TZID=Europe/Paris:20221011T170000
DTSTAMP:20260422T112214
CREATED:20220926T133307Z
LAST-MODIFIED:20220926T134619Z
UID:1695-1665478800-1665507600@cdos57.com
SUMMARY:FORMATION VRL
DESCRIPTION:
URL:https://cdos57.com/event/formation-vrl-4/
LOCATION:Verny\, 2 rue Plénière\, Verny\, France
ORGANIZER;CN="CDOS%2057":MAILTO:moselle@franceolympique.com
END:VEVENT
END:VCALENDAR