BEGIN:VCALENDAR
VERSION:2.0
PRODID:-//𝗖𝗗𝗢𝗦 𝟱𝟳 - ECPv5.3.2.1//NONSGML v1.0//EN
CALSCALE:GREGORIAN
METHOD:PUBLISH
X-WR-CALNAME:𝗖𝗗𝗢𝗦 𝟱𝟳
X-ORIGINAL-URL:https://cdos57.com
X-WR-CALDESC:Évènements pour 𝗖𝗗𝗢𝗦 𝟱𝟳
BEGIN:VTIMEZONE
TZID:Europe/Paris
BEGIN:DAYLIGHT
TZOFFSETFROM:+0100
TZOFFSETTO:+0200
TZNAME:CEST
DTSTART:20250330T010000
END:DAYLIGHT
BEGIN:STANDARD
TZOFFSETFROM:+0200
TZOFFSETTO:+0100
TZNAME:CET
DTSTART:20251026T010000
END:STANDARD
END:VTIMEZONE
BEGIN:VEVENT
DTSTART;TZID=Europe/Paris:20250913T140000
DTEND;TZID=Europe/Paris:20250913T180000
DTSTAMP:20260420T010720
CREATED:20250728T083238Z
LAST-MODIFIED:20250820T092023Z
UID:3020-1757772000-1757786400@cdos57.com
SUMMARY:𝐒𝐞𝐧𝐭𝐞𝐳-𝐕𝐨𝐮𝐬 𝐒𝐩𝐨𝐫𝐭 𝟐𝟎𝟐𝟓
DESCRIPTION:
URL:https://cdos57.com/event/%f0%9d%90%92%f0%9d%90%9e%f0%9d%90%a7%f0%9d%90%ad%f0%9d%90%9e%f0%9d%90%b3-%f0%9d%90%95%f0%9d%90%a8%f0%9d%90%ae%f0%9d%90%ac-%f0%9d%90%92%f0%9d%90%a9%f0%9d%90%a8%f0%9d%90%ab%f0%9d%90%ad-%f0%9d%9f%90/
LOCATION:4A Rue du 27 Novembre\, 57320 Bouzonville
ORGANIZER;CN="CDOS%2057":MAILTO:moselle@franceolympique.com
END:VEVENT
END:VCALENDAR